Workbook
Name 建無共無: 計画書!$A$13:$AG$47,計画書!$A$48:$AG$95,計画書!$A$123:$AG$142,計画書!$A$143:$AG$182
Name 建無共無: 計画通知書!$A$13:$AG$47,計画通知書!$A$48:$AG$95,計画通知書!$A$123:$AG$142,計画通知書!$A$143:$AG$182
Name 建無共無: 計画変更通知書!$A$13:$AG$47,計画変更通知書!$A$48:$AG$95,計画変更通知書!$A$123:$AG$142,計画変更通知書!$A$143:$AG$182
Name 建無共無: '軽微変更該当証明申請（ルートC）'!$A$13:$AG$47,'軽微変更該当証明申請（ルートC）'!$A$48:$AG$95,'軽微変更該当証明申請（ルートC）'!$A$123:$AG$142,'軽微変更該当証明申請（ルートC）'!$A$143:$AG$182
Name 建無共無: 変更計画書!$A$13:$AG$47,変更計画書!$A$48:$AG$95,変更計画書!$A$123:$AG$142,変更計画書!$A$143:$AG$182
Name 建無共有: 計画書!$A$13:$AG$47,計画書!$A$48:$AG$95,計画書!$A$123:$AG$142,計画書!$A$143:$AG$182,計画書!$A$183:$AG$243,計画書!$A$246:$AG$268
Name 建無共有: 計画通知書!$A$13:$AG$47,計画通知書!$A$48:$AG$95,計画通知書!$A$123:$AG$142,計画通知書!$A$143:$AG$182,計画通知書!$A$183:$AG$243,計画通知書!$A$246:$AG$268
Name 建無共有: 計画変更通知書!$A$13:$AG$47,計画変更通知書!$A$48:$AG$95,計画変更通知書!$A$123:$AG$142,計画変更通知書!$A$143:$AG$182,計画変更通知書!$A$183:$AG$243,計画変更通知書!$A$246:$AG$268
Name 建無共有: '軽微変更該当証明申請（ルートC）'!$A$13:$AG$47,'軽微変更該当証明申請（ルートC）'!$A$48:$AG$95,'軽微変更該当証明申請（ルートC）'!$A$123:$AG$142,'軽微変更該当証明申請（ルートC）'!$A$143:$AG$182,'軽微変更該当証明申請（ルートC）'!$A$183:$AG$243,'軽微変更該当証明申請（ルートC）'!$A$246:$AG$268
Name 建無共有: 変更計画書!$A$13:$AG$47,変更計画書!$A$48:$AG$95,変更計画書!$A$123:$AG$142,変更計画書!$A$143:$AG$182,変更計画書!$A$183:$AG$243,変更計画書!$A$246:$AG$268
Name 建有共無: 計画書!$A$13:$AG$47,計画書!$A$48:$AG$95,計画書!$A$96:$AG$122,計画書!$A$123:$AG$142,計画書!$A$143:$AG$182
Name 建有共無: 計画通知書!$A$13:$AG$47,計画通知書!$A$48:$AG$95,計画通知書!$A$96:$AG$122,計画通知書!$A$123:$AG$142,計画通知書!$A$143:$AG$182
Name 建有共無: 計画変更通知書!$A$13:$AG$47,計画変更通知書!$A$48:$AG$95,計画変更通知書!$A$96:$AG$122,計画変更通知書!$A$123:$AG$142,計画変更通知書!$A$143:$AG$182
Name 建有共無: '軽微変更該当証明申請（ルートC）'!$A$13:$AG$47,'軽微変更該当証明申請（ルートC）'!$A$48:$AG$95,'軽微変更該当証明申請（ルートC）'!$A$96:$AG$122,'軽微変更該当証明申請（ルートC）'!$A$123:$AG$142,'軽微変更該当証明申請（ルートC）'!$A$143:$AG$182
Name 建有共無: 変更計画書!$A$13:$AG$47,変更計画書!$A$48:$AG$95,変更計画書!$A$96:$AG$122,変更計画書!$A$123:$AG$142,変更計画書!$A$143:$AG$182
Name 建有共有: 計画書!$A$13:$AG$47,計画書!$A$48:$AG$95,計画書!$A$96:$AG$122,計画書!$A$123:$AG$142,計画書!$A$143:$AG$182,計画書!$A$183:$AG$243,計画書!$A$246:$AG$268
Name 建有共有: 計画通知書!$A$13:$AG$47,計画通知書!$A$48:$AG$95,計画通知書!$A$96:$AG$122,計画通知書!$A$123:$AG$142,計画通知書!$A$143:$AG$182,計画通知書!$A$183:$AG$243,計画通知書!$A$246:$AG$268
Name 建有共有: 計画変更通知書!$A$13:$AG$47,計画変更通知書!$A$48:$AG$95,計画変更通知書!$A$96:$AG$122,計画変更通知書!$A$123:$AG$142,計画変更通知書!$A$143:$AG$182,計画変更通知書!$A$183:$AG$243,計画変更通知書!$A$246:$AG$268
Name 建有共有: 変更計画書!$A$13:$AG$47,変更計画書!$A$48:$AG$95,変更計画書!$A$96:$AG$122,変更計画書!$A$123:$AG$142,変更計画書!$A$143:$AG$182,変更計画書!$A$183:$AG$243,変更計画書!$A$246:$AG$268

Sheet 計画書
A1: 申請を行う皆様へ
A2: ①このファイルは建築物のエネルギー消費性能の向上等に関する法律により提出を行う「建築物エネルギー消費性能適合性判定（省エネ適判）の申請書」です。
A3: ②提出先は所管行政庁又は登録建築物エネルギー消費性能判定機関です。（大分県建築住宅センターは登録建築物エネルギー消費性能判定機関です）
A4: ③省エネ適判の申請が必要であるかの判定は確認申請に依存しますので、確認申請の提出先に相談してください。
A5: ④記載内容は確認申請書の記載内容と完全一致する必要があります。確認申請書に修正が生じた場合は計画書についても必ず修正を行ってください。
A6: ⑤記載内容が設計図書の記載内容と完全一致する必要があります。申請前に必ず整合確認を行ってください。必ず整合確認を行ってください。
A7: ⑥Excelファイルの使用方法は以下の通りです。
A8: ・「名前を付けて保存」において、ファイル形式をPDFにして保存することで申請用のPDFファイルが作成できます。（様式部分のみがPDFとなります）
A9: ・セル内の改行は「Alt」+「Enter」です。
A10: ・黄色セルに入力してください。複数入力部分は白色セルにも入力が可能です。橙色セルは自動入力です。赤色セルは入力の誤り箇所です。
A11: ・保護をかけて編集できないように設定しています。申請上の不都合が生じた場合ご連絡ください。利便性向上のためバージョンアップを行っていきます。
A13: 様式第一（第三条第一項関係）（日本産業規格Ａ列４番） | AG13: =バージョン更新履歴!A2 -> ver.20250401-10 | AI13: 注意事項
Q15: （第一面）
Q17: 計画書 | AH17: ⇒ | AI17: この「計画書」は建築物のエネルギー消費性能の向上等に関する法律第11条第１項（同法第14条第２項読み替え含む。）
AI18: の規定により提出を行う省エネ適判の申請書です。建築主が国等に該当しない一般建築主の新規申請用です。
AH19: ⇒ | AI19: 本申請受付日よりも前の日付を入力してください。
A20: 一般財団法人 大分県建築住宅センター 殿 | AI20: 事前申請日でも構いません。
J22: 提出者の住所又は 主たる事務所の所在地 | AH22: ⇒ | AI22: 提出者の住所です。建築場所ではありません。
J24: 提出者の氏名又は名称 代表者の氏名 | AH24: ⇒ | AI24: 提出者が法人の場合は代表者の氏名まで入力してください。
AI25: 代理者ではありません。
J27: 設計者氏名 | AH27: ⇒ | AI27: 第二面の代表となる設計者と整合ください。
A29: 建築物のエネルギー消費性能の向上等に関する法律第11条第１項（同法第14条第２項において読み替えて適用する場合を含む。）の規定により、建築物エネルギー消費性能確保計画を提出します。この計画書及び添付図書に記載の事項は、事実に相違ありません。
C33: （本欄には記入しないでください。）
C34: 受付欄 | K34: 適合判定通知書番号欄 | S34: 決裁欄
C35: 年 月 日 | K35: 年 月 日
C36: 第 号 | K36: 第 号
C37: 係員氏名 | K37: 係員氏名
Q48: （第二面） | AG48: =$AG$13 -> ver.20250401-10
A50: ［建築主等に関する事項］
A51: 【１．建築主】 | AH51: ⇒ | AI51: 代表となる建築主について入力してください。その他の建築主は別紙に入力してください。
B52: 【イ．氏名のフリガナ】
B53: 【ロ．氏名】 | AH53: ⇒ | AI53: 漢字間違いにご注意ください。
B54: 【ハ．郵便番号】
B55: 【ニ．住所】 | AH55: ⇒ | AI55: 大分県から記載ください。
B56: 【ホ．電話番号】
A57: 【２．代理者】 | AA57: □ | AB57: 代理者無し | AH57: ⇒ | AI57: 建築主本人による申請の場合はチェックをいれてください。代理者をたてる場合、委任状は省エネ適判の申請には不要です。任意で添付することはできます。
B58: 【イ．氏名】 | AH58: ⇒ | AI58: 建築士又は行政書士を入力してください。
B59: 【ロ．勤務先】
B60: 【ハ．郵便番号】
B61: 【ニ．住所】 | AH61: ⇒ | AI61: 大分県から記載ください。
B62: 【ホ．電話番号】
A63: 【３．設計者】
B64: （代表となる設計者） | AA64: □ | AB64: 所属事務所無し | AH64: ⇒ | AI64: 行政庁所属の設計者等、所属する建築士事務所が無い場合にチェックをいれてください。
B65: 【イ．資格】 | J65: ( | M65: )建築士 ( | W65: ) 登録第 | AG65: 号 | AH65: ⇒ | AI65: 建築士法上、建築物の構造及び規模に対して資格が有効か確認してください。
B66: 【ロ．氏名】
B67: 【ハ．建築士事務所名】 | J67: ( | M67: )建築士事務所 ( | V67: ) 知事登録第 | AG67: 号 | AH67: ⇒ | AI67: 知事登録番号はプルダウンの他、直接入力することができます。
AH68: ⇒ | AI68: 登録している事務所名を入力してください。会社名ではありません。行政庁所属の設計者は当該行政庁名を入力ください。
B69: 【ニ．郵便番号】
B70: 【ホ．所在地】 | AH70: ⇒ | AI70: 大分県から記載ください。
B71: 【ヘ．電話番号】
B72: 【ト．作成した設計図書】 | AH72: ⇒ | AI72: 省エネに係る図書が含まれるような表現としてください。（NG：確認申請図書一式）
B73: （その他の設計者１）
B74: 【イ．資格】 | J74: ( | M74: )建築士 ( | W74: ) 登録第 | AG74: 号 | AH74: ⇒ | AI74: その他の設計者が存在する場合は入力してください。
B75: 【ロ．氏名】 | AI75: 建築物のエネルギー消費性能確保計画に係る他の全ての設計者について記入してください。
B76: 【ハ．建築士事務所名】 | J76: ( | M76: )建築士事務所 ( | V76: ) 知事登録第 | AG76: 号 | AI76: 当該省エネ計画に関係のない設計者は記入不要です。
B78: 【ニ．郵便番号】
B79: 【ホ．所在地】
B80: 【ヘ．電話番号】
B81: 【ト．作成した設計図書】
B82: （その他の設計者２）
B83: 【イ．資格】 | J83: ( | M83: )建築士 ( | W83: ) 登録第 | AG83: 号
B84: 【ロ．氏名】
B85: 【ハ．建築士事務所名】 | J85: ( | M85: )建築士事務所 ( | V85: ) 知事登録第 | AG85: 号
B87: 【ニ．郵便番号】
B88: 【ホ．所在地】
B89: 【ヘ．電話番号】
B90: 【ト．作成した設計図書】
A91: 【４.確認の申請】
E92: =IF(K92="","□","■") -> □ | F92: 申請済 ( | X92: ( | AF92: ) | AG92: ) | AH92: ⇒ | AI92: 確認申請の提出先を入力してください。プルダウンの他、直接入力することができます。
E93: =IF(K93="","□","■") -> □ | F93: 未申請 ( | X93: ( | AF93: ) | AG93: ) | AI93: ()内には提出先の行政又は機関の所在地の都道府県名と市町村を入力してください。
A94: 【５．備考】
E95: 建築物の名称： | AH95: ⇒ | AI95: 設計内容説明書、設計図書と全て整合させてください。工事名称でも構いません。
Q96: （第二面 別紙（その他の建築主）） | AG96: =$AG$13 -> ver.20250401-10
A98: ［建築主等に関する事項］ | AA98: □ | AB98: 他建築主無し | AH98: ⇒ | AI98: その他の建築主がいない場合はチェックをいれてください。
A99: 【１．建築主２】
B100: 【イ．氏名のフリガナ】 | AH100: ⇒ | AI100: その他の建築主がいる場合に入力してください。
B101: 【ロ．氏名】
B102: 【ハ．郵便番号】
B103: 【ニ．住所】
B104: 【ホ．電話番号】
A105: 【１．建築主３】
B106: 【イ．氏名のフリガナ】
B107: 【ロ．氏名】
B108: 【ハ．郵便番号】
B109: 【ニ．住所】
B110: 【ホ．電話番号】
A111: 【１．建築主４】
B112: 【イ．氏名のフリガナ】
B113: 【ロ．氏名】
B114: 【ハ．郵便番号】
B115: 【ニ．住所】
B116: 【ホ．電話番号】
A117: 【１．建築主５】
B118: 【イ．氏名のフリガナ】
B119: 【ロ．氏名】
B120: 【ハ．郵便番号】
B121: 【ニ．住所】
B122: 【ホ．電話番号】
Q123: （第三面） | AG123: =$AG$13 -> ver.20250401-10
Q125: 建築物エネルギー消費性能確保計画
...

Sheet 変更計画書
A1: 申請を行う皆様へ
A2: ①このファイルは建築物のエネルギー消費性能の向上等に関する法律により提出を行う「建築物エネルギー消費性能適合性判定（省エネ適判）の申請書」です。
A3: ②提出先は所管行政庁又は登録建築物エネルギー消費性能判定機関です。（大分県建築住宅センターは登録建築物エネルギー消費性能判定機関です）
A4: ③省エネ適判の申請が必要であるかの判定は確認申請に依存しますので、確認申請の提出先に相談してください。
A5: ④記載内容は確認申請書の記載内容と完全一致する必要があります。確認申請書に修正が生じた場合は計画書についても必ず修正を行ってください。
A6: ⑤記載内容が設計図書の記載内容と完全一致する必要があります。申請前に必ず整合確認を行ってください。必ず整合確認を行ってください。
A7: ⑥Excelファイルの使用方法は以下の通りです。
A8: ・「名前を付けて保存」において、ファイル形式をPDFにして保存することで申請用のPDFファイルが作成できます。（様式部分のみがPDFとなります）
A9: ・セル内の改行は「Alt」+「Enter」です。
A10: ・黄色セルに入力してください。複数入力部分は白色セルにも入力が可能です。橙色セルは自動入力です。赤色セルは入力の誤り箇所です。
A11: ・保護をかけて編集できないように設定しています。申請上の不都合が生じた場合ご連絡ください。利便性向上のためバージョンアップを行っていきます。
A13: 様式第二（第四条第一項関係）（日本産業規格Ａ列４番） | AG13: =バージョン更新履歴!A2 -> ver.20250401-10 | AI13: 注意事項
Q15: （第一面）
Q17: 変更計画書 | AH17: ⇒ | AI17: この「変更計画書」は建築物のエネルギー消費性能の向上等に関する法律第11条第２項（同法第14条第２項読み替え含む。）
AI18: の規定により提出を行う省エネ適判の変更申請書です。建築主が国等に該当しない一般建築主の変更申請用（軽微変更を除く）です。
AH19: ⇒ | AI19: 本申請受付日よりも前の日付を入力してください。
A20: 一般財団法人 大分県建築住宅センター 殿 | AI20: 事前申請日でも構いません。
J22: 提出者の住所又は 主たる事務所の所在地 | AH22: ⇒ | AI22: 提出者の住所です。建築場所ではありません。
J24: 提出者の氏名又は名称 代表者の氏名 | AH24: ⇒ | AI24: 提出者が法人の場合は代表者の氏名まで入力してください。
AI25: 代理者ではありません。
J27: 設計者氏名 | AH27: ⇒ | AI27: 第二面の代表となる設計者と整合ください。
A29: 建築物のエネルギー消費性能の向上等に関する法律第11条第２項（同法第14条第２項において読み替えて適用する場合を含む。）の規定により、変更後の建築物エネルギー消費性能確保計画を提出します。この計画書及び添付図書に記載の事項は、事実に相違ありません。
A33: 【計画を変更する建築物の直前の建築物エネルギー消費性能適合性判定】
A34: 【適合判定通知書番号】 | L34: 第 | AB34: 号 | AH34: ⇒ | AI34: 061-01-20xx-x-x-xxxxx
A35: 【適合判定通知書交付年月日】
A36: 【適合判定通知書交付者】 | M36: 一般財団法人大分県建築住宅センター
A37: 【計画変更の概要】 | M37: 別紙による | AH37: ⇒ | AI37: 変更内容の箇条書きリストを添付ください。（任意様式）
C39: （本欄には記入しないでください。）
C40: 受付欄 | K40: 適合判定通知書番号欄 | S40: 決裁欄
C41: 年 月 日 | K41: 年 月 日
C42: 第 号 | K42: 第 号
C43: 係員氏名 | K43: 係員氏名
A45: （注意） | D45: １．第二面から第五面までとして別記様式第一の第二面から第五面までに記載すべき事項を記載した書類を添えてください。 ２．別記様式第一の（注意）に準じて記入してください。
Q48: （第二面） | AG48: =$AG$13 -> ver.20250401-10
A50: ［建築主等に関する事項］
A51: 【１．建築主】 | AH51: ⇒ | AI51: 代表となる建築主について入力してください。その他の建築主は別紙に入力してください。
B52: 【イ．氏名のフリガナ】
B53: 【ロ．氏名】 | AH53: ⇒ | AI53: 漢字間違いにご注意ください。
B54: 【ハ．郵便番号】
B55: 【ニ．住所】 | AH55: ⇒ | AI55: 大分県から記載ください。
B56: 【ホ．電話番号】
A57: 【２．代理者】 | AA57: □ | AB57: 代理者無し | AH57: ⇒ | AI57: 建築主本人による申請の場合はチェックをいれてください。代理者をたてる場合、委任状は省エネ適判の申請には不要です。任意で添付することはできます。
B58: 【イ．氏名】 | AH58: ⇒ | AI58: 建築士又は行政書士を入力してください。
B59: 【ロ．勤務先】
B60: 【ハ．郵便番号】
B61: 【ニ．住所】 | AH61: ⇒ | AI61: 大分県から記載ください。
B62: 【ホ．電話番号】
A63: 【３．設計者】
B64: （代表となる設計者） | AA64: □ | AB64: 所属事務所無し | AH64: ⇒ | AI64: 行政庁所属の設計者等、所属する建築士事務所が無い場合にチェックをいれてください。
B65: 【イ．資格】 | J65: ( | M65: )建築士 ( | W65: ) 登録第 | AG65: 号 | AH65: ⇒ | AI65: 建築士法上、建築物の構造及び規模に対して資格が有効か確認してください。
B66: 【ロ．氏名】
B67: 【ハ．建築士事務所名】 | J67: ( | M67: )建築士事務所 ( | V67: ) 知事登録第 | AG67: 号 | AH67: ⇒ | AI67: 知事登録番号はプルダウンの他、直接入力することができます。
AH68: ⇒ | AI68: 登録している事務所名を入力してください。会社名ではありません。行政庁所属の設計者は当該行政庁名を入力ください。
B69: 【ニ．郵便番号】
B70: 【ホ．所在地】 | AH70: ⇒ | AI70: 大分県から記載ください。
B71: 【ヘ．電話番号】
B72: 【ト．作成した設計図書】 | AH72: ⇒ | AI72: 省エネに係る図書が含まれるような表現としてください。（NG：確認申請図書一式）
B73: （その他の設計者１）
B74: 【イ．資格】 | J74: ( | M74: )建築士 ( | W74: ) 登録第 | AG74: 号 | AH74: ⇒ | AI74: その他の設計者が存在する場合は入力してください。
B75: 【ロ．氏名】 | AI75: 建築物のエネルギー消費性能確保計画に係る他の全ての設計者について記入してください。
B76: 【ハ．建築士事務所名】 | J76: ( | M76: )建築士事務所 ( | V76: ) 知事登録第 | AG76: 号 | AI76: 当該省エネ計画に関係のない設計者は記入不要です。
B78: 【ニ．郵便番号】
B79: 【ホ．所在地】
B80: 【ヘ．電話番号】
B81: 【ト．作成した設計図書】
B82: （その他の設計者２）
B83: 【イ．資格】 | J83: ( | M83: )建築士 ( | W83: ) 登録第 | AG83: 号
B84: 【ロ．氏名】
B85: 【ハ．建築士事務所名】 | J85: ( | M85: )建築士事務所 ( | V85: ) 知事登録第 | AG85: 号
B87: 【ニ．郵便番号】
B88: 【ホ．所在地】
B89: 【ヘ．電話番号】
B90: 【ト．作成した設計図書】
A91: 【４.確認の申請】
E92: =IF(K92="","□","■") -> □ | F92: 申請済 ( | X92: ( | AF92: ) | AG92: ) | AH92: ⇒ | AI92: 確認申請の提出先を入力してください。プルダウンの他、直接入力することができます。
E93: =IF(K93="","□","■") -> □ | F93: 未申請 ( | X93: ( | AF93: ) | AG93: ) | AI93: ()内には提出先の行政又は機関の所在地の都道府県名と市町村を入力してください。
A94: 【５．備考】
E95: 建築物の名称： | AH95: ⇒ | AI95: 設計内容説明書、設計図書と全て整合させてください。工事名称でも構いません。
Q96: （第二面 別紙（その他の建築主）） | AG96: =$AG$13 -> ver.20250401-10
A98: ［建築主等に関する事項］ | AA98: □ | AB98: 他建築主無し | AH98: ⇒ | AI98: その他の建築主がいない場合はチェックをいれてください。
A99: 【１．建築主２】
B100: 【イ．氏名のフリガナ】 | AH100: ⇒ | AI100: その他の建築主がいる場合に入力してください。
B101: 【ロ．氏名】
B102: 【ハ．郵便番号】
B103: 【ニ．住所】
B104: 【ホ．電話番号】
A105: 【１．建築主３】
B106: 【イ．氏名のフリガナ】
B107: 【ロ．氏名】
B108: 【ハ．郵便番号】
B109: 【ニ．住所】
B110: 【ホ．電話番号】
A111: 【１．建築主４】
B112: 【イ．氏名のフリガナ】
B113: 【ロ．氏名】
B114: 【ハ．郵便番号】
B115: 【ニ．住所】
B116: 【ホ．電話番号】
A117: 【１．建築主５】
B118: 【イ．氏名のフリガナ】
...

Sheet 計画通知書
A1: 申請を行う皆様へ
A2: ①このファイルは建築物のエネルギー消費性能の向上等に関する法律により提出を行う「建築物エネルギー消費性能適合性判定（省エネ適判）の申請書」です。
A3: ②提出先は所管行政庁又は登録建築物エネルギー消費性能判定機関です。（大分県建築住宅センターは登録建築物エネルギー消費性能判定機関です）
A4: ③省エネ適判の申請が必要であるかの判定は確認申請に依存しますので、確認申請の提出先に相談してください。
A5: ④記載内容は確認申請書の記載内容と完全一致する必要があります。確認申請書に修正が生じた場合は計画書についても必ず修正を行ってください。
A6: ⑤記載内容が設計図書の記載内容と完全一致する必要があります。申請前に必ず整合確認を行ってください。必ず整合確認を行ってください。
A7: ⑥Excelファイルの使用方法は以下の通りです。
A8: ・「名前を付けて保存」において、ファイル形式をPDFにして保存することで申請用のPDFファイルが作成できます。（様式部分のみがPDFとなります）
A9: ・セル内の改行は「Alt」+「Enter」です。
A10: ・黄色セルに入力してください。複数入力部分は白色セルにも入力が可能です。橙色セルは自動入力です。赤色セルは入力の誤り箇所です。
A11: ・保護をかけて編集できないように設定しています。申請上の不都合が生じた場合ご連絡ください。利便性向上のためバージョンアップを行っていきます。
A13: 様式第十一（第九条第一項関係）（日本産業規格Ａ列４番） | AG13: =バージョン更新履歴!A2 -> ver.20250401-10 | AI13: 注意事項
Q15: （第一面）
Q17: 建築物のエネルギー消費性能の向上等に関する法律第12条第２項の規定による計画通知書 | AH17: ⇒ | AI17: この「計画通知書」は建築物のエネルギー消費性能の向上等に関する法律第12条第２項（同法第14条第２項読み替え含む。）
AI18: の規定により提出を行う省エネ適判の申請書です。建築主が国等の場合の新規申請用です。
AH19: ⇒ | AI19: 本申請受付日よりも前の日付を入力してください。
A20: 一般財団法人 大分県建築住宅センター 殿 | AI20: 事前申請日でも構いません。
Q21: 第 | AG21: 号 | AH21: ⇒ | AI21: 行政庁における文書管理番号（基準法の計画通知番号ではない）
AH22: ⇒ | AI22: 文章管理番号の発番日
J24: 通知者官職
J27: 設計者氏名 | AH27: ⇒ | AI27: 第二面の代表となる設計者と整合ください。
A29: 建築物のエネルギー消費性能の向上等に関する法律第12条第２項（同法第14条第２項において読み替えて適用する場合を含む。）の規定により建築物エネルギー消費性能確保計画を通知します。
C33: （本欄には記入しないでください。）
C34: 受付欄 | K34: 適合判定通知書番号欄 | S34: 決裁欄
C35: 年 月 日 | K35: 年 月 日
C36: 第 号 | K36: 第 号
C37: 係員氏名 | K37: 係員氏名
A39: （注意） | D39: １．第二面から第五面までとして別記様式第一の第二面から第五面までに記載すべき事項を記載した書類を添えてください。 ２．別記様式第一の（注意）に準じて記入してください。
Q48: （第二面） | AG48: =$AG$13 -> ver.20250401-10
A50: ［建築主等に関する事項］
A51: 【１．建築主】 | AH51: ⇒ | AI51: 代表となる建築主について入力してください。その他の建築主は別紙に入力してください。
B52: 【イ．氏名のフリガナ】
B53: 【ロ．氏名】 | AH53: ⇒ | AI53: 漢字間違いにご注意ください。
B54: 【ハ．郵便番号】
B55: 【ニ．住所】 | AH55: ⇒ | AI55: 大分県から記載ください。
B56: 【ホ．電話番号】
A57: 【２．代理者】 | AA57: □ | AB57: 代理者無し | AH57: ⇒ | AI57: 建築主本人による申請の場合はチェックをいれてください。代理者をたてる場合、委任状は省エネ適判の申請には不要です。任意で添付することはできます。
B58: 【イ．氏名】 | AH58: ⇒ | AI58: 建築士又は行政書士を入力してください。
B59: 【ロ．勤務先】
B60: 【ハ．郵便番号】
B61: 【ニ．住所】 | AH61: ⇒ | AI61: 大分県から記載ください。
B62: 【ホ．電話番号】
A63: 【３．設計者】
B64: （代表となる設計者） | AA64: □ | AB64: 所属事務所無し | AH64: ⇒ | AI64: 行政庁所属の設計者等、所属する建築士事務所が無い場合にチェックをいれてください。
B65: 【イ．資格】 | J65: ( | M65: )建築士 ( | W65: ) 登録第 | AG65: 号 | AH65: ⇒ | AI65: 建築士法上、建築物の構造及び規模に対して資格が有効か確認してください。
B66: 【ロ．氏名】
B67: 【ハ．建築士事務所名】 | J67: ( | M67: )建築士事務所 ( | V67: ) 知事登録第 | AG67: 号 | AH67: ⇒ | AI67: 知事登録番号はプルダウンの他、直接入力することができます。
AH68: ⇒ | AI68: 登録している事務所名を入力してください。会社名ではありません。行政庁所属の設計者は当該行政庁名を入力ください。
B69: 【ニ．郵便番号】
B70: 【ホ．所在地】 | AH70: ⇒ | AI70: 大分県から記載ください。
B71: 【ヘ．電話番号】
B72: 【ト．作成した設計図書】 | AH72: ⇒ | AI72: 省エネに係る図書が含まれるような表現としてください。（NG：確認申請図書一式）
B73: （その他の設計者１）
B74: 【イ．資格】 | J74: ( | M74: )建築士 ( | W74: ) 登録第 | AG74: 号 | AH74: ⇒ | AI74: その他の設計者が存在する場合は入力してください。
B75: 【ロ．氏名】 | AI75: 建築物のエネルギー消費性能確保計画に係る他の全ての設計者について記入してください。
B76: 【ハ．建築士事務所名】 | J76: ( | M76: )建築士事務所 ( | V76: ) 知事登録第 | AG76: 号 | AI76: 当該省エネ計画に関係のない設計者は記入不要です。
B78: 【ニ．郵便番号】
B79: 【ホ．所在地】
B80: 【ヘ．電話番号】
B81: 【ト．作成した設計図書】
B82: （その他の設計者２）
B83: 【イ．資格】 | J83: ( | M83: )建築士 ( | W83: ) 登録第 | AG83: 号
B84: 【ロ．氏名】
B85: 【ハ．建築士事務所名】 | J85: ( | M85: )建築士事務所 ( | V85: ) 知事登録第 | AG85: 号
B87: 【ニ．郵便番号】
B88: 【ホ．所在地】
B89: 【ヘ．電話番号】
B90: 【ト．作成した設計図書】
A91: 【４.確認の申請】
E92: =IF(K92="","□","■") -> □ | F92: 申請済 ( | X92: ( | AF92: ) | AG92: ) | AH92: ⇒ | AI92: 確認申請の提出先を入力してください。プルダウンの他、直接入力することができます。
E93: =IF(K93="","□","■") -> □ | F93: 未申請 ( | X93: ( | AF93: ) | AG93: ) | AI93: ()内には提出先の行政又は機関の所在地の都道府県名と市町村を入力してください。
A94: 【５．備考】
E95: 建築物の名称： | AH95: ⇒ | AI95: 設計内容説明書、設計図書と全て整合させてください。工事名称でも構いません。
Q96: （第二面 別紙（その他の建築主）） | AG96: =$AG$13 -> ver.20250401-10
A98: ［建築主等に関する事項］ | AA98: □ | AB98: 他建築主無し | AH98: ⇒ | AI98: その他の建築主がいない場合はチェックをいれてください。
A99: 【１．建築主２】
B100: 【イ．氏名のフリガナ】 | AH100: ⇒ | AI100: その他の建築主がいる場合に入力してください。
B101: 【ロ．氏名】
B102: 【ハ．郵便番号】
B103: 【ニ．住所】
B104: 【ホ．電話番号】
A105: 【１．建築主３】
B106: 【イ．氏名のフリガナ】
B107: 【ロ．氏名】
B108: 【ハ．郵便番号】
B109: 【ニ．住所】
B110: 【ホ．電話番号】
A111: 【１．建築主４】
B112: 【イ．氏名のフリガナ】
B113: 【ロ．氏名】
B114: 【ハ．郵便番号】
B115: 【ニ．住所】
B116: 【ホ．電話番号】
A117: 【１．建築主５】
B118: 【イ．氏名のフリガナ】
B119: 【ロ．氏名】
B120: 【ハ．郵便番号】
B121: 【ニ．住所】
B122: 【ホ．電話番号】
Q123: （第三面） | AG123: =$AG$13 -> ver.20250401-10
...

Sheet 計画変更通知書
A1: 申請を行う皆様へ
A2: ①このファイルは建築物のエネルギー消費性能の向上等に関する法律により提出を行う「建築物エネルギー消費性能適合性判定（省エネ適判）の申請書」です。
A3: ②提出先は所管行政庁又は登録建築物エネルギー消費性能判定機関です。（大分県建築住宅センターは登録建築物エネルギー消費性能判定機関です）
A4: ③省エネ適判の申請が必要であるかの判定は確認申請に依存しますので、確認申請の提出先に相談してください。
A5: ④記載内容は確認申請書の記載内容と完全一致する必要があります。確認申請書に修正が生じた場合は計画書についても必ず修正を行ってください。
A6: ⑤記載内容が設計図書の記載内容と完全一致する必要があります。申請前に必ず整合確認を行ってください。必ず整合確認を行ってください。
A7: ⑥Excelファイルの使用方法は以下の通りです。
A8: ・「名前を付けて保存」において、ファイル形式をPDFにして保存することで申請用のPDFファイルが作成できます。（様式部分のみがPDFとなります）
A9: ・セル内の改行は「Alt」+「Enter」です。
A10: ・黄色セルに入力してください。複数入力部分は白色セルにも入力が可能です。橙色セルは自動入力です。赤色セルは入力の誤り箇所です。
A11: ・保護をかけて編集できないように設定しています。申請上の不都合が生じた場合ご連絡ください。利便性向上のためバージョンアップを行っていきます。
A13: 様式第十二（第九条第一項関係）（日本産業規格Ａ列４番） | AG13: =バージョン更新履歴!A2 -> ver.20250401-10 | AI13: 注意事項
Q15: （第一面）
Q17: 建築物のエネルギー消費性能の向上等に関する法律第12条第３項の規定による計画変更通知書 | AH17: ⇒ | AI17: この「計画通知書」は建築物のエネルギー消費性能の向上等に関する法律第12条第３項（同法第14条第２項読み替え含む。）
AI18: の規定により提出を行う省エネ適判の変更申請書です。建築主が国等の場合の変更申請用です。
AH19: ⇒ | AI19: 本申請受付日よりも前の日付を入力してください。
A20: 一般財団法人 大分県建築住宅センター 殿 | AI20: 事前申請日でも構いません。
Q21: 第 | AG21: 号 | AH21: ⇒ | AI21: 行政庁における文書管理番号（基準法の計画通知番号ではない）
AH22: ⇒ | AI22: 文章管理番号の発番日
J24: 通知者官職
J27: 設計者氏名 | AH27: ⇒ | AI27: 第二面の代表となる設計者と整合ください。
A29: 建築物のエネルギー消費性能の向上等に関する法律第12条第３項（同法第14条第２項において読み替えて適用する場合を含む。）の規定により建築物エネルギー消費性能確保計画を通知します。
A33: 【計画を変更する建築物の直前の建築物エネルギー消費性能適合性判定】
A34: 【適合判定通知書番号】 | L34: 第 | AB34: 号 | AH34: ⇒ | AI34: 061-01-20xx-x-x-xxxxx
A35: 【適合判定通知書交付年月日】
A36: 【適合判定通知書交付者】 | M36: 一般財団法人大分県建築住宅センター
A37: 【計画変更の概要】 | M37: 別紙による | AH37: ⇒ | AI37: 変更内容の箇条書きリストを添付ください。（任意様式）
C39: （本欄には記入しないでください。）
C40: 受付欄 | K40: 適合判定通知書番号欄 | S40: 決裁欄
C41: 年 月 日 | K41: 年 月 日
C42: 第 号 | K42: 第 号
C43: 係員氏名 | K43: 係員氏名
A45: （注意） | D45: １．第二面から第五面までとして別記様式第一の第二面から第五面までに記載すべき事項を記載した書類を添えてください。 ２．別記様式第一の（注意）に準じて記入してください。
Q48: （第二面） | AG48: =$AG$13 -> ver.20250401-10
A50: ［建築主等に関する事項］
A51: 【１．建築主】 | AH51: ⇒ | AI51: 代表となる建築主について入力してください。その他の建築主は別紙に入力してください。
B52: 【イ．氏名のフリガナ】
B53: 【ロ．氏名】 | AH53: ⇒ | AI53: 漢字間違いにご注意ください。
B54: 【ハ．郵便番号】
B55: 【ニ．住所】 | AH55: ⇒ | AI55: 大分県から記載ください。
B56: 【ホ．電話番号】
A57: 【２．代理者】 | AA57: □ | AB57: 代理者無し | AH57: ⇒ | AI57: 建築主本人による申請の場合はチェックをいれてください。代理者をたてる場合、委任状は省エネ適判の申請には不要です。任意で添付することはできます。
B58: 【イ．氏名】 | AH58: ⇒ | AI58: 建築士又は行政書士を入力してください。
B59: 【ロ．勤務先】
B60: 【ハ．郵便番号】
B61: 【ニ．住所】 | AH61: ⇒ | AI61: 大分県から記載ください。
B62: 【ホ．電話番号】
A63: 【３．設計者】
B64: （代表となる設計者） | AA64: □ | AB64: 所属事務所無し | AH64: ⇒ | AI64: 行政庁所属の設計者等、所属する建築士事務所が無い場合にチェックをいれてください。
B65: 【イ．資格】 | J65: ( | M65: )建築士 ( | W65: ) 登録第 | AG65: 号 | AH65: ⇒ | AI65: 建築士法上、建築物の構造及び規模に対して資格が有効か確認してください。
B66: 【ロ．氏名】
B67: 【ハ．建築士事務所名】 | J67: ( | M67: )建築士事務所 ( | V67: ) 知事登録第 | AG67: 号 | AH67: ⇒ | AI67: 知事登録番号はプルダウンの他、直接入力することができます。
AH68: ⇒ | AI68: 登録している事務所名を入力してください。会社名ではありません。行政庁所属の設計者は当該行政庁名を入力ください。
B69: 【ニ．郵便番号】
B70: 【ホ．所在地】 | AH70: ⇒ | AI70: 大分県から記載ください。
B71: 【ヘ．電話番号】
B72: 【ト．作成した設計図書】 | AH72: ⇒ | AI72: 省エネに係る図書が含まれるような表現としてください。（NG：確認申請図書一式）
B73: （その他の設計者１）
B74: 【イ．資格】 | J74: ( | M74: )建築士 ( | W74: ) 登録第 | AG74: 号 | AH74: ⇒ | AI74: その他の設計者が存在する場合は入力してください。
B75: 【ロ．氏名】 | AI75: 建築物のエネルギー消費性能確保計画に係る他の全ての設計者について記入してください。
B76: 【ハ．建築士事務所名】 | J76: ( | M76: )建築士事務所 ( | V76: ) 知事登録第 | AG76: 号 | AI76: 当該省エネ計画に関係のない設計者は記入不要です。
B78: 【ニ．郵便番号】
B79: 【ホ．所在地】
B80: 【ヘ．電話番号】
B81: 【ト．作成した設計図書】
B82: （その他の設計者２）
B83: 【イ．資格】 | J83: ( | M83: )建築士 ( | W83: ) 登録第 | AG83: 号
B84: 【ロ．氏名】
B85: 【ハ．建築士事務所名】 | J85: ( | M85: )建築士事務所 ( | V85: ) 知事登録第 | AG85: 号
B87: 【ニ．郵便番号】
B88: 【ホ．所在地】
B89: 【ヘ．電話番号】
B90: 【ト．作成した設計図書】
A91: 【４.確認の申請】
E92: =IF(K92="","□","■") -> □ | F92: 申請済 ( | X92: ( | AF92: ) | AG92: ) | AH92: ⇒ | AI92: 確認申請の提出先を入力してください。プルダウンの他、直接入力することができます。
E93: =IF(K93="","□","■") -> □ | F93: 未申請 ( | X93: ( | AF93: ) | AG93: ) | AI93: ()内には提出先の行政又は機関の所在地の都道府県名と市町村を入力してください。
A94: 【５．備考】
E95: 建築物の名称： | AH95: ⇒ | AI95: 設計内容説明書、設計図書と全て整合させてください。工事名称でも構いません。
Q96: （第二面 別紙（その他の建築主）） | AG96: =$AG$13 -> ver.20250401-10
A98: ［建築主等に関する事項］ | AA98: □ | AB98: 他建築主無し | AH98: ⇒ | AI98: その他の建築主がいない場合はチェックをいれてください。
A99: 【１．建築主２】
B100: 【イ．氏名のフリガナ】 | AH100: ⇒ | AI100: その他の建築主がいる場合に入力してください。
B101: 【ロ．氏名】
B102: 【ハ．郵便番号】
B103: 【ニ．住所】
B104: 【ホ．電話番号】
A105: 【１．建築主３】
B106: 【イ．氏名のフリガナ】
B107: 【ロ．氏名】
B108: 【ハ．郵便番号】
B109: 【ニ．住所】
B110: 【ホ．電話番号】
A111: 【１．建築主４】
B112: 【イ．氏名のフリガナ】
B113: 【ロ．氏名】
B114: 【ハ．郵便番号】
B115: 【ニ．住所】
B116: 【ホ．電話番号】
A117: 【１．建築主５】
B118: 【イ．氏名のフリガナ】
...

Sheet 軽微変更該当証明申請（ルートC）
A1: 申請を行う皆様へ
A2: ①このファイルは建築物のエネルギー消費性能の向上等に関する法律により提出を行う「建築物エネルギー消費性能適合性判定（省エネ適判）の申請書」です。
A3: ②提出先は所管行政庁又は登録建築物エネルギー消費性能判定機関です。（大分県建築住宅センターは登録建築物エネルギー消費性能判定機関です）
A4: ③省エネ適判の申請が必要であるかの判定は確認申請に依存しますので、確認申請の提出先に相談してください。
A5: ④記載内容は確認申請書の記載内容と完全一致する必要があります。確認申請書に修正が生じた場合は計画書についても必ず修正を行ってください。
A6: ⑤記載内容が設計図書の記載内容と完全一致する必要があります。申請前に必ず整合確認を行ってください。必ず整合確認を行ってください。
A7: ⑥Excelファイルの使用方法は以下の通りです。
A8: ・「名前を付けて保存」において、ファイル形式をPDFにして保存することで申請用のPDFファイルが作成できます。（様式部分のみがPDFとなります）
A9: ・セル内の改行は「Alt」+「Enter」です。
A10: ・黄色セルに入力してください。複数入力部分は白色セルにも入力が可能です。橙色セルは自動入力です。赤色セルは入力の誤り箇所です。
A11: ・保護をかけて編集できないように設定しています。申請上の不都合が生じた場合ご連絡ください。利便性向上のためバージョンアップを行っていきます。
A13: 別記様式第１ | AG13: =バージョン更新履歴!A2 -> ver.20250401-10 | AI13: 注意事項
Q15: （第一面）
Q17: 軽微変更該当証明申請書 | AH17: ⇒ | AI17: この「軽微変更該当証明申請書」は省エネ適判を行った建築物に対して変更を行う場合に
AI18: 軽微な変更ルートCとなる変更を行うための変更申請書です。
AH19: ⇒ | AI19: 本申請受付日よりも前の日付を入力してください。
A20: 一般財団法人 大分県建築住宅センター 殿 | AI20: 事前申請日でも構いません。
J22: 申請者の住所又は 主たる事務所の所在地 | AH22: ⇒ | AI22: 提出者の住所です。建築場所ではありません。
J24: 申請者の氏名又は名称 代表者の氏名 | AH24: ⇒ | AI24: 提出者が法人の場合は代表者の氏名まで入力してください。
AI25: 代理者ではありません。
J27: 設計者氏名 | AH27: ⇒ | AI27: 第二面の代表となる設計者と整合ください。
A29: 建築物のエネルギー消費性能の向上等に関する法律施行規則第13条の規定により、建築物エネルギー消費性能確保計画の変更が同規則第5条（同規則第9条第２項において読み替えて準用する場合を含む。）の軽微な変更に該当していることを証する書面の交付を申請します。この申請書及び添付図書に記載の事項は、事実に相違ありません。
A33: 【軽微な変更をする建築物の直前の建築物エネルギー消費性能適合性判定又は軽微変更該当証明】
A34: 【適合判定通知書又は軽微変更該当証明書番号】 | Q34: 第 | AG34: 号 | AH34: ⇒ | AI34: 061-01-20xx-x-x-xxxxx
A35: 【適合判定通知書又は軽微変更該当証明書交付年月日】
A36: 【適合判定通知書又は軽微変更該当証明書交付者】 | R36: 一般財団法人大分県建築住宅センター
A37: 【変更の概要】 | R37: 別紙による | AH37: ⇒ | AI37: 変更内容の箇条書きリストを添付ください。（任意様式）
AI38: さらに、非住宅モデル建物法の場合は「軽微な変更用の確認シート」（WEBプログラムサイトに掲載）を追加添付ください。
C39: （本欄には記入しないでください。） | AI39: 「軽微変更届」や「軽微変更説明書」は基準法の完了検査に係る手続き書類なのでルートCの申請には添付しないでください。
C40: 受付欄 | K40: 軽微変更該当証明書番号欄 | S40: 決裁欄
C41: 年 月 日 | K41: 年 月 日
C42: 第 号 | K42: 第 号
C43: 係員氏名 | K43: 係員氏名
A45: （注意） | D45: 第二面から第五面までとして建築物のエネルギー消費性能の向上等に関する法律施行規則別記様式第一の第二面から第五面までに記載すべき事項を記載した書類を添えてください。ただし、直前の建築物エネルギー消費性能適合性判定又は軽微変更該当証明を当機関で実施している場合、変更に係る部分のみの提出とすることができます。
Q48: （第二面） | AG48: =$AG$13 -> ver.20250401-10
A50: ［建築主等に関する事項］
A51: 【１．建築主】 | AH51: ⇒ | AI51: 代表となる建築主について入力してください。その他の建築主は別紙に入力してください。
B52: 【イ．氏名のフリガナ】
B53: 【ロ．氏名】 | AH53: ⇒ | AI53: 漢字間違いにご注意ください。
B54: 【ハ．郵便番号】
B55: 【ニ．住所】 | AH55: ⇒ | AI55: 大分県から記載ください。
B56: 【ホ．電話番号】
A57: 【２．代理者】 | AA57: □ | AB57: 代理者無し | AH57: ⇒ | AI57: 建築主本人による申請の場合はチェックをいれてください。代理者をたてる場合、委任状は省エネ適判の申請には不要です。任意で添付することはできます。
B58: 【イ．氏名】 | AH58: ⇒ | AI58: 建築士又は行政書士を入力してください。
B59: 【ロ．勤務先】
B60: 【ハ．郵便番号】
B61: 【ニ．住所】 | AH61: ⇒ | AI61: 大分県から記載ください。
B62: 【ホ．電話番号】
A63: 【３．設計者】
B64: （代表となる設計者） | AA64: □ | AB64: 所属事務所無し | AH64: ⇒ | AI64: 行政庁所属の設計者等、所属する建築士事務所が無い場合にチェックをいれてください。
B65: 【イ．資格】 | J65: ( | M65: )建築士 ( | W65: ) 登録第 | AG65: 号 | AH65: ⇒ | AI65: 建築士法上、建築物の構造及び規模に対して資格が有効か確認してください。
B66: 【ロ．氏名】
B67: 【ハ．建築士事務所名】 | J67: ( | M67: )建築士事務所 ( | V67: ) 知事登録第 | AG67: 号 | AH67: ⇒ | AI67: 知事登録番号はプルダウンの他、直接入力することができます。
AH68: ⇒ | AI68: 登録している事務所名を入力してください。会社名ではありません。行政庁所属の設計者は当該行政庁名を入力ください。
B69: 【ニ．郵便番号】
B70: 【ホ．所在地】 | AH70: ⇒ | AI70: 大分県から記載ください。
B71: 【ヘ．電話番号】
B72: 【ト．作成した設計図書】 | AH72: ⇒ | AI72: 省エネに係る図書が含まれるような表現としてください。（NG：確認申請図書一式）
B73: （その他の設計者１）
B74: 【イ．資格】 | J74: ( | M74: )建築士 ( | W74: ) 登録第 | AG74: 号 | AH74: ⇒ | AI74: その他の設計者が存在する場合は入力してください。
B75: 【ロ．氏名】 | AI75: 建築物のエネルギー消費性能確保計画に係る他の全ての設計者について記入してください。
B76: 【ハ．建築士事務所名】 | J76: ( | M76: )建築士事務所 ( | V76: ) 知事登録第 | AG76: 号 | AI76: 当該省エネ計画に関係のない設計者は記入不要です。
B78: 【ニ．郵便番号】
B79: 【ホ．所在地】
B80: 【ヘ．電話番号】
B81: 【ト．作成した設計図書】
B82: （その他の設計者２）
B83: 【イ．資格】 | J83: ( | M83: )建築士 ( | W83: ) 登録第 | AG83: 号
B84: 【ロ．氏名】
B85: 【ハ．建築士事務所名】 | J85: ( | M85: )建築士事務所 ( | V85: ) 知事登録第 | AG85: 号
B87: 【ニ．郵便番号】
B88: 【ホ．所在地】
B89: 【ヘ．電話番号】
B90: 【ト．作成した設計図書】
A91: 【４.確認の申請】
E92: =IF(K92="","□","■") -> □ | F92: 申請済 ( | X92: ( | AF92: ) | AG92: ) | AH92: ⇒ | AI92: 確認申請の提出先を入力してください。プルダウンの他、直接入力することができます。
E93: =IF(K93="","□","■") -> □ | F93: 未申請 ( | X93: ( | AF93: ) | AG93: ) | AI93: ()内には提出先の行政又は機関の所在地の都道府県名と市町村を入力してください。
A94: 【５．備考】
E95: 建築物の名称： | AH95: ⇒ | AI95: 設計内容説明書、設計図書と全て整合させてください。工事名称でも構いません。
Q96: （第二面 別紙（その他の建築主）） | AG96: =$AG$13 -> ver.20250401-10
A98: ［建築主等に関する事項］ | AA98: □ | AB98: 他建築主無し | AH98: ⇒ | AI98: その他の建築主がいない場合はチェックをいれてください。
A99: 【１．建築主２】
B100: 【イ．氏名のフリガナ】 | AH100: ⇒ | AI100: その他の建築主がいる場合に入力してください。
B101: 【ロ．氏名】
B102: 【ハ．郵便番号】
B103: 【ニ．住所】
B104: 【ホ．電話番号】
A105: 【１．建築主３】
B106: 【イ．氏名のフリガナ】
B107: 【ロ．氏名】
B108: 【ハ．郵便番号】
B109: 【ニ．住所】
B110: 【ホ．電話番号】
A111: 【１．建築主４】
B112: 【イ．氏名のフリガナ】
B113: 【ロ．氏名】
B114: 【ハ．郵便番号】
B115: 【ニ．住所】
B116: 【ホ．電話番号】
A117: 【１．建築主５】
...

Sheet 仕様基準別紙
A1: （別紙） | AG1: =計画書!AG13 -> ver.20250401-10
A2: 基準省令第１条第１項第２号イ⑵の基準又は基準省令第１条第１項第２号ロ⑵の基準を用いる場合 | AH2: ⇒ | AI2: 仕様基準を用いる場合に記入・添付してください。
A4: １．住戸に係る事項
B5: （１）外壁、窓等を通しての熱の損失の防止に関する措置
D6: １）屋根又は天井
F7: 【断熱材の施工法】 | M7: □ | N7: 内断熱 | R7: □ | S7: 外断熱 | W7: □ | X7: 両面断熱
M8: □ | N8: 充填断熱 | R8: □ | S8: 外張断熱 | W8: □ | X8: 内張断熱
F9: 【断熱性能】 | K9: □ | L9: 熱貫流率( | R9: W/(㎡・K)) | W9: □ | X9: 熱抵抗値( | AD9: (㎡・K)/W)
D10: ２）壁
F11: 【断熱材の施工法】 | M11: □ | N11: 内断熱 | R11: □ | S11: 外断熱 | W11: □ | X11: 両面断熱
M12: □ | N12: 充填断熱 | R12: □ | S12: 外張断熱 | W12: □ | X12: 内張断熱
F13: 【断熱性能】 | K13: □ | L13: 熱貫流率( | R13: W/(㎡・K)) | W13: □ | X13: 熱抵抗値( | AD13: (㎡・K)/W)
D14: ３）床
E15: （イ）外気に接する部分
F16: 【該当箇所の有無】 | M16: □ | N16: 有 | R16: □ | S16: 無
F17: 【断熱材の施工法】 | M17: □ | N17: 内断熱 | R17: □ | S17: 外断熱 | W17: □ | X17: 両面断熱
M18: □ | N18: 充填断熱 | R18: □ | S18: 外張断熱 | W18: □ | X18: 内張断熱
F19: 【断熱性能】 | K19: □ | L19: 熱貫流率( | R19: W/(㎡・K)) | W19: □ | X19: 熱抵抗値( | AD19: (㎡・K)/W)
E20: （ロ）その他の部分
F21: 【該当箇所の有無】 | M21: □ | N21: 有 | R21: □ | S21: 無
F22: 【断熱材の施工法】 | M22: □ | N22: 内断熱 | R22: □ | S22: 外断熱 | W22: □ | X22: 両面断熱
M23: □ | N23: 充填断熱 | R23: □ | S23: 外張断熱 | W23: □ | X23: 内張断熱
F24: 【断熱性能】 | K24: □ | L24: 熱貫流率( | R24: W/(㎡・K)) | W24: □ | X24: 熱抵抗値( | AD24: (㎡・K)/W)
D25: ４）土間床等の外周部分の基礎壁
E26: （イ）外気に接する部分
F27: 【該当箇所の有無】 | M27: □ | N27: 有 | R27: □ | S27: 無
F28: 【断熱性能】 | K28: □ | L28: 熱貫流率( | R28: W/(㎡・K)) | W28: □ | X28: 熱抵抗値( | AD28: (㎡・K)/W)
E29: （ロ）その他の部分
F30: 【該当箇所の有無】 | M30: □ | N30: 有 | R30: □ | S30: 無
F31: 【断熱性能】 | K31: □ | L31: 熱貫流率( | R31: W/(㎡・K)) | W31: □ | X31: 熱抵抗値( | AD31: (㎡・K)/W)
D32: ５）開口部
F33: 【断熱性能】 | K33: □ | L33: 熱貫流率( | R33: W/(㎡・K))
F34: 【日射遮蔽性能】
H35: □ | I35: 開口部の日射熱取得率 (日射熱取得率 | X35: )
H36: □ | I36: ガラスの日射熱取得率 (日射熱取得率 | X36: )
H37: □ | I37: 付属部材
H38: □ | I38: ひさし、軒等
D39: ６）構造熱橋部
F40: 【該当箇所の有無】 | M40: □ | N40: 有 | R40: □ | S40: 無
F41: 【断熱性能】断熱補強の範囲 ( | S41: mm) 断熱補強の熱抵抗値( | AD41: (㎡・K)/W)
B43: （２）一次エネルギー消費量に関する措置 | AH43: ⇒ | AI43: 入居後に設置予定の設備は「入居者設置」と記入してください。
J44: 【暖房】暖房設備 ( | AG44: )
J45: 効率 ( | AG45: )
J46: 【冷房】冷房設備 ( | AG46: )
J47: 効率 ( | AG47: )
J48: 【換気】換気設備 ( | AG48: )
J49: 効率 ( | AG49: )
J50: 【照明】照明設備 ( | AG50: )
J51: 【給湯】給湯設備 ( | AG51: )
J52: 効率 ( | AG52: )
A53: ２．備考

Sheet 計画書注意書き（添付不要）
Q1: （注意）
A2: １．各面共通関係 ① この様式において使用する用語は、特別の定めのある場合を除くほか、建築物エネルギー消費性能基準等を定める省令（平成28年経済産業省令・国土交通省令第１号。以下「基準省令」という。）において使用する用語の例によります。 ② この様式において、次に掲げる用語の意義は、それぞれ次のとおりとします。 (1) 一戸建ての住宅 一棟の建築物からなる一戸の住宅 (2) 共同住宅等 共同住宅、長屋その他の一戸建ての住宅以外の住宅
A7: ２．第一面関係 ① 提出者が法人である場合には、代表者の氏名を併せて記載してください。 ② 設計者氏名については、代表となる設計者の氏名を記載してください。
A10: ３．第二面関係 ① 建築主が２者以上の場合は、【１．建築主】の欄は代表となる建築主について記入し、別紙に他の建築主について記入して添えてください。 ② 【１．建築主】の欄は、建築主が法人の場合は、「イ」は法人の名称及び代表者の氏名のフリガナを、「ロ」は法人の名称及び代表者の氏名を、「ニ」は法人の所在地を、建築主がマンションの管理を行う建物の区分所有等に関する法律第３条又は第65条に規定する団体の場合は、「イ」は団体の名称及び代表者の氏名のフリガナを、「ロ」は団体の名称及び代表者の氏名を、「ニ」は団体の所在地を記入してください。 ③ 【２．代理者】の欄は、建築主からの委任を受けて提出をする場合に記入してください。 ④ 【３．設計者】の欄は、代表となる設計者及び提出に係る建築物のエネルギー消費性能確保計画に係る他の全ての設計者について記入してください。設計者が建築士事務所に属しているときは、その名称を書き、建築士事務所に属していないときは、所在地は設計者の住所を書いてください。 ⑤ 【４．確認の申請】の欄は、該当するチェックボックスに「✓」マークを入れ、申請済の場合には、申請をした市町村名若しくは都道府県名又は指定確認検査機関の名称及び事務所の所在地を記入してください。未申請の場合には、申請する予定の市町村名若しくは都道府県名又は指定確認検査機関の名称及び事務所の所在地を記入し、申請をした後に、遅滞なく、申請をした旨（申請先を変更した場合においては、申請をした市町村名若しくは都道府県名又は指定確認検査機関の名称及び事務所の所在地を含む。）を届け出てください。なお、所在地については、〇〇県〇〇市、郡〇〇町、村、程度で結構です。
A23: ４．第三面関係 ① 【６．建築物の用途】及び【７．工事種別】の欄は、該当するチェックボックスに「✓」マークを入れてください。 ② 【９．該当する地域の区分】の欄の「地域の区分」は、基準省令第１条第１項第２号イ(1)の地域の区分をいいます（以下同じ。）。
A27: ５．第四面関係 ① 【１．非住宅部分の用途】の欄は、建築基準法施行規則（昭和25年建設省令第40号）別紙の表の用途の区分に従い記入してください。 ② 【２．建築物の住戸の数】の欄は、第三面の【６．建築物の用途】で「共同住宅等」又は「複合建築物」を選んだ場合のみ記載してください。 ③ 【３．建築物の床面積】の欄は、第三面の【７．工事種別】の欄の工事種別に応じ、新築等に係る建築物の床面積を記載してください。増築又は改築の場合は、延べ面積を併せて記載してください。「開放部分及び共用部分を除いた部分の床面積」は、第三面の【６．建築物の用途】で「共同住宅等」又は「複合建築物」を選んだ場合のみ記載してください。 ④ 【３．建築物の床面積】の欄において、「床面積」は、単に建築物の床面積をいい、「開放部分を除いた部分の床面積」は、建築物のエネルギー消費性能の向上等に関する法律施行令（平成28年政令第８号。以下「令」という。）第３条に規定する床面積をいい、「開放部分及び共用部分を除いた部分の床面積」は、同条に規定する階又はその一部及び住宅部分のうち共用部分を除いた部分の面積をいいます。 ⑤ 【４．建築物のエネルギー消費性能】の欄は、第三面の【６．建築物の用途】の欄において選択した用途に応じて、イからニまでのいずれかについて、以下の内容に従って記載してください。なお、イからニまでの事項のうち、記載しないものについては削除して構いません。 (1) （外壁、窓等を通しての熱の損失の防止に関する事項）及び（一次エネルギー消費量に関する事項）のそれぞれについて、該当するチェックボックスに「✓」マークを入れた上で記載してください。 (2) 「外皮平均熱貫流率」及び「冷房期の平均日射熱取得率」については、それぞれの基準値（基準省令第１条第１項第２号イ(1)の表に掲げる数値をいう。）と併せて記載してください。 (3) 【ハ．共同住宅等】及び【ニ．複合建築物】の（住宅部分）の「基準一次エネルギー消費量」、「設計一次エネルギー消費量」及び「ＢＥＩ」については、住宅（複合建築物の場合は住宅部分。以下この(3)において同じ。）全体（住宅の増築又は改築をする場合にあっては、当該増築又は改築をする住宅の部分全体）での数値を記載してください。 (4) 「基準省令第１条第１項第２号イ(2)の基準」又は「基準省令第１条第１項第２号ロ(2)の基準」を用いる場合は、別紙に詳細を記載してください。 (5) 「ＢＥＩ」は、設計一次エネルギー消費量（その他一次エネルギー消費量を除く。）を基準一次エネルギー消費量（その他一次エネルギー消費量を除く。以下この(5)及び(6)において同じ。）で除したものをいいます。ただし、非住宅部分の「ＢＥＩ」を算出する場合における当該基準一次エネルギー消費量（(5)において「引上げ前の基準一次エネルギー消費量」という。）についての基準省令第３条第１項の規定の適用については、同項中「ＥＳＴ＝｛（ＥＳＡＣ＋ＥＳＶ＋ＥＳＬ＋ＥＳＷ＋ＥＳＥＶ）×Ｂ＋ＥＭ｝×10-3」とあるのは、「ＥＳＴ＝（ＥＳＡＣ＋ＥＳＶ＋ＥＳＬ＋ＥＳＷ＋ＥＳＥＶ＋ＥＭ）×10-3」とします。「ＢＥＩ」を記載する場合は、小数点第二位未満を切り上げた数値としてください。 (6) 「ＢＥＩの基準値」は、基準一次エネルギー消費量を引上げ前の基準一次エネルギー消費量で除したものをいいます。なお、非住宅部分を二以上の用途に供する場合にあっては、用途ごとに算出した基準一次エネルギー消費量の合計を、用途ごとに算出した引上げ前の基準一次エネルギー消費量の合計で除したものをいいます。「ＢＥＩの基準値」を記載する場合は、小数点第二位未満を切り上げた数値としてください。 ⑥ 第四面は、確認申請等他の制度の申請書の写しに必要事項を補って追加して記載した書面その他の記載すべき事項の全てが明示された別の書面をもって代えることができます。
A53: ６．第五面関係 ① 第五面は、第三面の【６．建築物の用途】の欄で「共同住宅等」又は「複合建築物」を選択した場合に、住戸ごとに作成してください。 ② 住戸の階数が二以上である場合には、【３．専用部分の床面積】に各階ごとの床面積を併せて記載してください。 ③ 【４．住戸のエネルギー消費性能】の欄は、以下の内容に従って記載してください。 (1) （外壁、窓等を通しての熱の損失の防止に関する事項）又は（一次エネルギー消費量に関する事項）のそれぞれについて、該当するチェックボックスに「✓」マークを入れた上で記載してください。 (2) 「外皮平均熱貫流率」及び「冷房期の平均日射熱取得率」については、それぞれの基準値（基準省令第１条第１項第２号イ⑴の表に掲げる数値をいう。）と併せて記載してください。 (3) 「基準省令第１条第１項第２号イ⑵の基準」又は「基準省令第１条第１項第２号ロ⑵の基準」を用いる場合は、別紙に詳細を記載してください。 (4) 「ＢＥＩ」は、設計一次エネルギー消費量（その他一次エネルギー消費量を除く。）を基準一次エネルギー消費量（その他一次エネルギー消費量を除く。）で除したものをいいます。「ＢＥＩ」を記載する場合は、小数点第二位未満を切り上げた数値としてください。 ④ 第五面は、確認申請等他の制度の申請書の写しに必要事項を補うこと、複数の住戸に関する情報を集約して記載すること等により記載すべき事項の全てが明示された別の書面をもって代えることができます。
A65: ７．別紙関係 ① １欄は、共同住宅等又は複合建築物については、その住戸に係る措置について、住戸ごとに記入してください。なお、計画に係る住戸の数が二以上である場合は、当該各住戸に関して記載すべき事項の全てが明示された別の書面をもって代えることができます。共同住宅等又は複合建築物の増築又は改築については、１欄の措置のうち、記載しないものについては削除して構いません。 ② １欄の（１）の１）から３）までにおける「断熱材の施工法」は、部位ごとに断熱材の施工法を複数用いている場合は、主たる施工法のチェックボックスに「✓」マークを入れてください。なお、主たる施工法以外の施工法について、主たる施工法に準じて、別紙のうち当該部位に係る事項を記入したものを添えることを妨げるものではありません。 ③ １欄の（１）の１）から４）までにおける「断熱性能」は、「熱貫流率」又は「熱抵抗値」のうち、該当するチェックボックスに「✓」マークを入れ、併せて必要な事項を記入してください。 ④ １欄の（１）の３）及び４）における（イ）及び（ロ）の「該当箇所の有無」は、該当箇所がある場合には「有」のチェックボックスに、「✓」マークを入れてください。 ⑤ １欄の（１）の５）は、開口部のうち主たるものを対象として、必要な事項を記入してください。 ⑥ １欄の（１）の５）の「日射遮蔽性能」は、「開口部の日射熱取得率」、「ガラスの日射熱取得率」、「付属部材」又は「ひさし、軒等」について該当するチェックボックスに「✓」マークを入れ、必要な事項を記入してください。地域の区分のうち８の地域に存する複合建築物に係る「日射遮蔽性能」については、北±22.5度以外の方位に設置する開口部について記載してください。 ⑦ １欄の（１）の６）の「該当箇所の有無」は、該当箇所がある場合には、「有」のチェックボックスに「✓」マークを入れ、「断熱性能」の欄に、「断熱補強の範囲」及び「断熱補強の熱抵抗値」を記入してください。 ⑧ １欄の（２）の「暖房」、「冷房」、「換気」、「照明」、「給湯」については、住戸に設置する設備機器（「照明」にあっては、非居室に白熱灯又はこれと同等以下の性能の照明設備を採用しない旨）とその効率（「照明」を除き、かつ、効率に係る基準を用いる場合に限る。）を記載してください。設備機器が複数ある場合は最も効率の低い設備機器とその効率を記載してください。「効率」の欄には、「暖房」では熱源機の熱効率又は暖房能力を消費電力で除した値を、「冷房」では冷房能力を消費電力で除した値を、「換気」では比消費電力（全般換気設備の消費電力を設計風量で除した値をいう。以下同じ。）（熱交換換気設備を採用する場合にあっては、比消費電力を有効換気量率で除した値）を、「給湯」ではモード熱効率、年間給湯保温効率又は年間給湯効率をそれぞれ記載してください。ただし、浴室等、台所及び洗面所がない場合は、「給湯」の欄は記載する必要はありません。 ⑨ １欄に書き表せない事項で特に記入すべき事項は、２欄に記入し、又は別紙に記入して添えてください。

Sheet バージョン更新履歴
A1: 最新バージョン
A2: {=INDEX(A5:A1001, MAX(IF(A5:A1001<>"", ROW(A5:A1001)-ROW(A5)+1)))} -> ver.20250401-10
A4: バージョン番号 (ﾏｲﾅｰｱｯﾌﾟﾃﾞｰﾄは枝番) | B4: 更新日 | C4: 内容
A5: ver.20250401 | B5: 45748 | C5: ・初期バージョン
A6: ver.20250401-2 | B6: 45748 | C6: ・第一面の設計者欄の自動転記による縮小表示により、文字が小さくなりすぎたため、折り返して表示設定とし、手動入力に変更。
C7: ・第四面と第五面の評価方法の選択をわかりやすく括弧書きで表示。
A8: ver.20250401-3 | B8: 45750 | C8: ・第四面別紙と第五面別紙について、国交省の様式のままではのBEIが小数点以下1桁表示となっていたため、
C9: センター独自に小数点以下2桁表示に変更。（省エネ計算では2桁表示のルールにため整合）
A10: ver.20250401-4 | B10: 45756 | C10: ・第三面の構造の表現を修正
C11: ・第一面の設計者欄を左揃えに変更
C12: ・「第○面つづき」を「第○面の○」に表現を変更
A13: ver.20250401-5 | B13: 45762 | C13: ・第四面別紙の面積を小数点以下2桁で表示するように変更
A14: ver.20250401-6 | B14: 45778 | C14: ・第一面設計者欄が誤ってロックされていたため設定を解除
C15: ・第四面、第五面上部の文言の修正（別紙による（住戸二戸以上のみ）⇒住戸二戸以上で別紙による）
C16: ・第四面別紙による場合と第五面別紙による場合を別々に設定できるように変更
C17: ・第四面別紙、第五面別紙にバージョン番号を記載
A18: ver.20250401-7 | B18: 45805 | C18: ・第二面代理者無しの選択を追加
C19: ・行の高さを縮小し、第四面の４を第四面の３に算入
C20: ・第四面別紙、第五面別紙を削除
C21: 第四面別紙は第四面で表示可能、第五面別紙は一次エネ計算プログラムサイトの共同住宅等の計算結果集計プログラムに代用するよう運用を変更
C22: ・第五面で併用住宅等の入力の際に基準値が表示されない不具合を修正
C23: ・第五面のみ別紙に選択できない不具合の修正
C24: ・計画書、変更計画書、計画通知書、変更計画通知書、軽微変更該当証明申請書を同じファイルに統合
A25: ver.20250401-8 | B25: 45824 | C25: ・文字サイズと行間を縮小し、PDF出力時の枚数を削減し、一覧性を向上
C26: ・第二面の所属事務所がない場合のチェックボックスを追加
C27: ・第二面別紙のその他の建築主がいない場合のチェックボックスを追加
C28: ・第三面の階数の開始列を揃えて上部から連続して入力できるように修正
C29: ・第三面の構造において、プルダウンに選択肢が無い場合に直接入力できるように修正
C30: ・複数項目入力箇所に罫線を表示し、視認性を向上
A31: ver.20250401-9 | B31: 45982 | C31: ・第四面の全体床面積を自動入力に変更
C32: ・第四面の２の備考欄に複合建築物の場合の非住宅部分の記載を追記
C33: ・第四面の２の備考欄に対象設備が無い場合のチェックボックスを追記
C34: ・第五面に「住戸無し」の選択肢を追加（共同住宅等で共用部のみの増改築を想定）
C35: ・印刷範囲外の注意事項の充実
A36: ver.20250401-10 | B36: 46113 | C36: ・第四面、第五面の評価方法「国土交通大臣が認める方法及びその結果（誘導仕様基準）」に誘導仕様基準等を追記
C37: ・第四面の２の備考欄の表現を調整
C38: ・印刷範囲外の注意事項の非住宅のBEI基準を改正に合わせて2000㎡以上から300㎡以上に変更
